BEGIN:VCALENDAR
VERSION:2.0
PRODID:-//Wiesbadener Automobilclub im AvD e.V. - ECPv6.15.20//NONSGML v1.0//EN
CALSCALE:GREGORIAN
METHOD:PUBLISH
X-ORIGINAL-URL:https://www.wac-avd.de
X-WR-CALDESC:Veranstaltungen für Wiesbadener Automobilclub im AvD e.V.
REFRESH-INTERVAL;VALUE=DURATION:PT1H
X-Robots-Tag:noindex
X-PUBLISHED-TTL:PT1H
BEGIN:VTIMEZONE
TZID:Europe/Berlin
BEGIN:DAYLIGHT
TZOFFSETFROM:+0100
TZOFFSETTO:+0200
TZNAME:CEST
DTSTART:20250330T010000
END:DAYLIGHT
BEGIN:STANDARD
TZOFFSETFROM:+0200
TZOFFSETTO:+0100
TZNAME:CET
DTSTART:20251026T010000
END:STANDARD
BEGIN:DAYLIGHT
TZOFFSETFROM:+0100
TZOFFSETTO:+0200
TZNAME:CEST
DTSTART:20260329T010000
END:DAYLIGHT
BEGIN:STANDARD
TZOFFSETFROM:+0200
TZOFFSETTO:+0100
TZNAME:CET
DTSTART:20261025T010000
END:STANDARD
BEGIN:DAYLIGHT
TZOFFSETFROM:+0100
TZOFFSETTO:+0200
TZNAME:CEST
DTSTART:20270328T010000
END:DAYLIGHT
BEGIN:STANDARD
TZOFFSETFROM:+0200
TZOFFSETTO:+0100
TZNAME:CET
DTSTART:20271031T010000
END:STANDARD
END:VTIMEZONE
BEGIN:VEVENT
DTSTART;TZID=Europe/Berlin:20260910T193000
DTEND;TZID=Europe/Berlin:20260910T220000
DTSTAMP:20260424T213747
CREATED:20260131T142248Z
LAST-MODIFIED:20260323T164744Z
UID:10000167-1789068600-1789077600@www.wac-avd.de
SUMMARY:Clubabend - Auszeit im Grünen
DESCRIPTION:Was kann es schöneres geben als mit Gleichgesinnten bei einem spritzigen Getränk und gutem Essen über sein Hobby zu reden.  \nAn jedem zweiten Donnerstag im Monat treffen sich die Mitglieder zu Benzingesprächen rund ums Automobil. Über Termine und die wechselnden Lokalitäten wird entsprechend rechtzeitig hier informiert.  \nZu diesen Clubabenden sind auch Gäste herzlich willkommen!
URL:https://www.wac-avd.de/event/clubabend-8
LOCATION:Clubabend\, Clubabend\, Wiesbaden\, Deutschland
CATEGORIES:Clubtreffen
ATTACH;FMTTYPE=image/jpeg:https://www.wac-avd.de/wp-content/uploads/2016/10/Hubertushütte-1-1.jpg
ORGANIZER;CN="Wiesbadener Automobilclub (Clubabend/Event)":MAILTO:info@wac-avd.de
GEO:50.0782184;8.2397608
X-APPLE-STRUCTURED-LOCATION;VALUE=URI;X-ADDRESS=Clubabend Clubabend Wiesbaden Deutschland;X-APPLE-RADIUS=500;X-TITLE=Clubabend:geo:8.2397608,50.0782184
END:VEVENT
BEGIN:VEVENT
DTSTART;VALUE=DATE:20260917
DTEND;VALUE=DATE:20260921
DTSTAMP:20260424T213747
CREATED:20211101T125124Z
LAST-MODIFIED:20260311T131952Z
UID:10000099-1789603200-1789948799@www.wac-avd.de
SUMMARY:Alpenfahrt
DESCRIPTION:Alpentour “Kärnten”\n17. bis 20. September 2026 \nIn diesem Jahr wiederholen wir die Alpentour “Kärnten”. \nIn 2024 konnten wir wegen Schnee die Tour wie geplant nicht durchführen. \nDie individuellen Anreise ist am Donnerstag\, den 17. September zum Hotel. Dieses liegt im Lungau\, auf der Grenze zwischen Salzburger Land und Kärnten. \nVon hier aus starten wir am Freitag und Samstag wie gewohnt zu Tagestouren in die Region\, aufgeteilt in verschiedene Gruppen.\nZum gemeinsamen Mittagessen treffen sich die Gruppen und am späten Nachmittag sind wir wieder im Hotel\, um das großzügige Wellnessangebot ausgiebig zu nutzen. \nDie Kosten für diese 3 Übernachtungen inkl. Verwöhnpension liegen bei \nEinzelzimmer       € 780.- \nDoppelzimmer   € 1260.- \nAnmeldeschluss 30. April 2026 \nZur Anmeldung Alpentour
URL:https://www.wac-avd.de/event/alpenfahrt
CATEGORIES:Sportliche Veranstaltungen
ATTACH;FMTTYPE=image/jpeg:https://www.wac-avd.de/wp-content/uploads/2024/01/Keypicture-scaled.jpg
ORGANIZER;CN="Wiesbadener Automobilclub (Sport)":MAILTO:info@wac-avd.de
END:VEVENT
END:VCALENDAR