BEGIN:VCALENDAR
VERSION:2.0
PRODID:-//Wiesbadener Automobilclub im AvD e.V. - ECPv6.15.20//NONSGML v1.0//EN
CALSCALE:GREGORIAN
METHOD:PUBLISH
X-WR-CALNAME:Wiesbadener Automobilclub im AvD e.V.
X-ORIGINAL-URL:https://www.wac-avd.de
X-WR-CALDESC:Veranstaltungen für Wiesbadener Automobilclub im AvD e.V.
REFRESH-INTERVAL;VALUE=DURATION:PT1H
X-Robots-Tag:noindex
X-PUBLISHED-TTL:PT1H
BEGIN:VTIMEZONE
TZID:Europe/Berlin
BEGIN:DAYLIGHT
TZOFFSETFROM:+0100
TZOFFSETTO:+0200
TZNAME:CEST
DTSTART:20250330T010000
END:DAYLIGHT
BEGIN:STANDARD
TZOFFSETFROM:+0200
TZOFFSETTO:+0100
TZNAME:CET
DTSTART:20251026T010000
END:STANDARD
BEGIN:DAYLIGHT
TZOFFSETFROM:+0100
TZOFFSETTO:+0200
TZNAME:CEST
DTSTART:20260329T010000
END:DAYLIGHT
BEGIN:STANDARD
TZOFFSETFROM:+0200
TZOFFSETTO:+0100
TZNAME:CET
DTSTART:20261025T010000
END:STANDARD
BEGIN:DAYLIGHT
TZOFFSETFROM:+0100
TZOFFSETTO:+0200
TZNAME:CEST
DTSTART:20270328T010000
END:DAYLIGHT
BEGIN:STANDARD
TZOFFSETFROM:+0200
TZOFFSETTO:+0100
TZNAME:CET
DTSTART:20271031T010000
END:STANDARD
END:VTIMEZONE
BEGIN:VEVENT
DTSTART;TZID=Europe/Berlin:20260612T193000
DTEND;TZID=Europe/Berlin:20260612T220000
DTSTAMP:20260424T172540
CREATED:20241210T163022Z
LAST-MODIFIED:20260102T100215Z
UID:10000152-1781292600-1781301600@www.wac-avd.de
SUMMARY:Clubabend „Theatrium“
DESCRIPTION:Was kann es schöneres geben als mit Gleichgesinnten bei einem spritzigen Getränk und gutem Essen über sein Hobby zu reden.  \nAn jedem zweiten Donnerstag im Monat treffen sich die Mitglieder zu Benzingesprächen rund ums Automobil. Über Termine und die wechselnden Lokalitäten wird entsprechend rechtzeitig hier informiert.  \nZu diesen Clubabenden sind auch Gäste herzlich willkommen!
URL:https://www.wac-avd.de/event/clubabend-4
LOCATION:Clubabend\, Clubabend\, Wiesbaden\, Deutschland
CATEGORIES:Clubtreffen
ATTACH;FMTTYPE=image/jpeg:https://www.wac-avd.de/wp-content/uploads/2019/11/1346045_01.jpg
ORGANIZER;CN="Wiesbadener Automobilclub (Clubabend/Event)":MAILTO:info@wac-avd.de
GEO:50.0782184;8.2397608
X-APPLE-STRUCTURED-LOCATION;VALUE=URI;X-ADDRESS=Clubabend Clubabend Wiesbaden Deutschland;X-APPLE-RADIUS=500;X-TITLE=Clubabend:geo:8.2397608,50.0782184
END:VEVENT
BEGIN:VEVENT
DTSTART;VALUE=DATE:20260626
DTEND;VALUE=DATE:20260629
DTSTAMP:20260424T172540
CREATED:20230301T195823Z
LAST-MODIFIED:20260201T132720Z
UID:10000115-1782432000-1782691199@www.wac-avd.de
SUMMARY:WAC Genuss-Tour
DESCRIPTION:WAC Genuss Tour \nEifel – Hohes Venn – Ardennen  \n\nFreitag – Sonntag 26. -28. Juni 2026\nLeider Ausgebucht (Warteliste)\nWie der Name schon sagt\, genießen die Teilnehmer stressfrei in kleinen Gruppen bildschöne Gegenden auf kleinen\, verschlungenen Straßen mit Fahrzeugen jedes Alters. Dazu gibt es reichlich Pausen in kleinen Cafés oder mit Bedacht ausgesuchten Restaurants. Die zwei gemeinsamen Abendessen sind der Treff für gute Speisen und reichlich Getränke bei nicht nur\, aber auch Benzingesprächen. Genuss und Entspannung pur \n26.06. ca. 205 km individuelle Anreise von Wiesbaden zum Hotel Burghaus & Villa Kronenburg\, Dahlem. Teilnehmer-Parkplatz im Burghof\, Einchecken für die Zimmer im Burghaus\, Treffpunkt und Abendessen 19:00 Uhr in der Villa Kronenburg \n27.06. ca. 260 km. Am Samstag geht es in den landschaftlich wunderbaren Teil von Belgien\, am Hohen Venn vorbei und in die Ardennen. Mittagessen am Ufer der Sauer und durch das malerische Städtchen Vianden und die Eifel zurück. Ab ca. 16:30 Uhr Rückkehr und Zeit zum Entspannen\, gemeinsame Abendessen 19:00 Uhr im Hotel. \n 28.06. ca. 160 km. Am Sonntag durch die Eifel und an den typischen Maaren vorbei in Richtung Mosel und ins berühmten Brauhaus Kloster Machern in Bernkastel Kues\, wo uns um ca. 13:00 Uhr leckere Speisen und ein eigener Kies-Parkplatz begrüßt.  Von dort sind es nach den Essen schnelle 90 Minuten zurück nach Wiesbaden. Oder wahlweise noch ein Besuch des Nostalgie & Oldtimer Museums Zylinderhaus\, keine 5 Minuten vom Mittagessen entfernt. \nZimmerpreis Übernachtung + Frühstück (pro Zimmer\, pro Nacht) \nEinzelzimmer: 123\,00 € \nDoppelzimmer: 163\,00 € \nDoppelzimmer Romantik: 188\,00 € \nAnmeldeschluss ist der 28. Februar 2026 \nZur Anmeldung WAC Genuss-Tour
URL:https://www.wac-avd.de/event/wac-genussrallye
LOCATION:Burghaus & Villa Kronenburg\, Burgbering 12\, Dahlem – Kronenburg\, 53949\, Germany
CATEGORIES:Sportliche Veranstaltungen
ATTACH;FMTTYPE=image/jpeg:https://www.wac-avd.de/wp-content/uploads/2026/01/eifel-Wordpress.jpg
ORGANIZER;CN="Wiesbadener Automobilclub (Genuss)":MAILTO:info@wac-avd.de
END:VEVENT
END:VCALENDAR