BEGIN:VCALENDAR
VERSION:2.0
PRODID:-//Wiesbadener Automobilclub im AvD e.V. - ECPv6.15.20//NONSGML v1.0//EN
CALSCALE:GREGORIAN
METHOD:PUBLISH
X-ORIGINAL-URL:https://www.wac-avd.de
X-WR-CALDESC:Veranstaltungen für Wiesbadener Automobilclub im AvD e.V.
REFRESH-INTERVAL;VALUE=DURATION:PT1H
X-Robots-Tag:noindex
X-PUBLISHED-TTL:PT1H
BEGIN:VTIMEZONE
TZID:Europe/Berlin
BEGIN:DAYLIGHT
TZOFFSETFROM:+0100
TZOFFSETTO:+0200
TZNAME:CEST
DTSTART:20250330T010000
END:DAYLIGHT
BEGIN:STANDARD
TZOFFSETFROM:+0200
TZOFFSETTO:+0100
TZNAME:CET
DTSTART:20251026T010000
END:STANDARD
BEGIN:DAYLIGHT
TZOFFSETFROM:+0100
TZOFFSETTO:+0200
TZNAME:CEST
DTSTART:20260329T010000
END:DAYLIGHT
BEGIN:STANDARD
TZOFFSETFROM:+0200
TZOFFSETTO:+0100
TZNAME:CET
DTSTART:20261025T010000
END:STANDARD
BEGIN:DAYLIGHT
TZOFFSETFROM:+0100
TZOFFSETTO:+0200
TZNAME:CEST
DTSTART:20270328T010000
END:DAYLIGHT
BEGIN:STANDARD
TZOFFSETFROM:+0200
TZOFFSETTO:+0100
TZNAME:CET
DTSTART:20271031T010000
END:STANDARD
END:VTIMEZONE
BEGIN:VEVENT
DTSTART;TZID=Europe/Berlin:20260507T193000
DTEND;TZID=Europe/Berlin:20260507T220000
DTSTAMP:20260424T154455
CREATED:20250321T190903Z
LAST-MODIFIED:20260323T164320Z
UID:10000139-1778182200-1778191200@www.wac-avd.de
SUMMARY:Clubabend - Bayerischer Abend
DESCRIPTION:Was kann es schöneres geben als mit Gleichgesinnten bei einem spritzigen Getränk und gutem Essen über sein Hobby zu reden.  \nAn jedem zweiten Donnerstag im Monat treffen sich die Mitglieder zu Benzingesprächen rund ums Automobil. Über Termine und die wechselnden Lokalitäten wird entsprechend rechtzeitig hier informiert.  \nZu diesen Clubabenden sind auch Gäste herzlich willkommen!
URL:https://www.wac-avd.de/event/clubabend-6
LOCATION:Clubabend\, Clubabend\, Wiesbaden\, Deutschland
CATEGORIES:Clubtreffen
ATTACH;FMTTYPE=image/png:https://www.wac-avd.de/wp-content/uploads/2024/12/Paul.png
ORGANIZER;CN="Wiesbadener Automobilclub (Clubabend/Event)":MAILTO:info@wac-avd.de
GEO:50.0782184;8.2397608
X-APPLE-STRUCTURED-LOCATION;VALUE=URI;X-ADDRESS=Clubabend Clubabend Wiesbaden Deutschland;X-APPLE-RADIUS=500;X-TITLE=Clubabend:geo:8.2397608,50.0782184
END:VEVENT
BEGIN:VEVENT
DTSTART;TZID=Europe/Berlin:20260528T130000
DTEND;TZID=Europe/Berlin:20260530T230000
DTSTAMP:20260424T154455
CREATED:20211101T122804Z
LAST-MODIFIED:20260113T130417Z
UID:10000095-1779973200-1780182000@www.wac-avd.de
SUMMARY:46. Int. Rallye Wiesbaden
DESCRIPTION:1971 – 2026 Internationalen Rallye Wiesbaden\nzwei Länder // vier Tage // 1.350 Km\nSollzeitprüfungen (ca. 350 Km) auf den legendären Strecken der Rallye Wiesbaden in Deutschland und Tschechien. Dieses Mal wartet wieder ein gepflegtes Pils in Pilsen auf die Teilnehmer\,\nund auf einsamen Strecken im Böhmerwald erwacht die mobilistische Leidenschaft. Mit der 46. Internationalen Rallye Wiesbaden wartet wieder eine sportliche Herausforderung auf Sie.\n1.350 km in weniger als 55 Stunden. Sollzeitprüfungen mit bekanntem Ziel\, ein detailliertes Bordbuch und hilfreicheSportwarte lassen Fahrer und Beifahrer viel Raum\, die sportlichen Herausforderungen zu genießen. \nWeiter Information unter folgendem Link: Rallye-Wiesbaden
URL:https://www.wac-avd.de/event/46-int-rallye-wiesbaden
LOCATION:Dauphin Speed Event\, Industriestraße 11\, Hersbruck\, 91217
CATEGORIES:Sportliche Veranstaltungen
ATTACH;FMTTYPE=image/jpeg:https://www.wac-avd.de/wp-content/uploads/2026/01/RW-2026-Wordpress-WAC-1.jpg
ORGANIZER;CN="WAC Sport Event UG":MAILTO:info@rallye-wiesbaden.com
GEO:49.5831022;11.6148589
X-APPLE-STRUCTURED-LOCATION;VALUE=URI;X-ADDRESS=Dauphin Speed Event Industriestraße 11 Hersbruck 91217;X-APPLE-RADIUS=500;X-TITLE=Industriestraße 11:geo:11.6148589,49.5831022
END:VEVENT
END:VCALENDAR