BEGIN:VCALENDAR
VERSION:2.0
PRODID:-//Wiesbadener Automobilclub im AvD e.V. - ECPv6.15.20//NONSGML v1.0//EN
CALSCALE:GREGORIAN
METHOD:PUBLISH
X-WR-CALNAME:Wiesbadener Automobilclub im AvD e.V.
X-ORIGINAL-URL:https://www.wac-avd.de
X-WR-CALDESC:Veranstaltungen für Wiesbadener Automobilclub im AvD e.V.
REFRESH-INTERVAL;VALUE=DURATION:PT1H
X-Robots-Tag:noindex
X-PUBLISHED-TTL:PT1H
BEGIN:VTIMEZONE
TZID:Europe/Berlin
BEGIN:DAYLIGHT
TZOFFSETFROM:+0100
TZOFFSETTO:+0200
TZNAME:CEST
DTSTART:20240331T010000
END:DAYLIGHT
BEGIN:STANDARD
TZOFFSETFROM:+0200
TZOFFSETTO:+0100
TZNAME:CET
DTSTART:20241027T010000
END:STANDARD
BEGIN:DAYLIGHT
TZOFFSETFROM:+0100
TZOFFSETTO:+0200
TZNAME:CEST
DTSTART:20250330T010000
END:DAYLIGHT
BEGIN:STANDARD
TZOFFSETFROM:+0200
TZOFFSETTO:+0100
TZNAME:CET
DTSTART:20251026T010000
END:STANDARD
BEGIN:DAYLIGHT
TZOFFSETFROM:+0100
TZOFFSETTO:+0200
TZNAME:CEST
DTSTART:20260329T010000
END:DAYLIGHT
BEGIN:STANDARD
TZOFFSETFROM:+0200
TZOFFSETTO:+0100
TZNAME:CET
DTSTART:20261025T010000
END:STANDARD
BEGIN:DAYLIGHT
TZOFFSETFROM:+0100
TZOFFSETTO:+0200
TZNAME:CEST
DTSTART:20270328T010000
END:DAYLIGHT
BEGIN:STANDARD
TZOFFSETFROM:+0200
TZOFFSETTO:+0100
TZNAME:CET
DTSTART:20271031T010000
END:STANDARD
END:VTIMEZONE
BEGIN:VEVENT
DTSTART;TZID=Europe/Berlin:20260409T190000
DTEND;TZID=Europe/Berlin:20260409T220000
DTSTAMP:20260424T172826
CREATED:20250321T191052Z
LAST-MODIFIED:20260323T164151Z
UID:10000140-1775761200-1775772000@www.wac-avd.de
SUMMARY:Clubabend / Hauptversammlung
DESCRIPTION:Hier findet uns jährliche Hauptversammlung statt. \nEinladungen an die Mitglieder ergehen per Post. \nGäste sind an diesem Abend nur mit Zustimmung gestattet.\nAnmeldung: WAC Hauptversammlung
URL:https://www.wac-avd.de/event/clubabend-7
LOCATION:Clubabend\, Clubabend\, Wiesbaden\, Deutschland
CATEGORIES:Clubtreffen
ATTACH;FMTTYPE=image/jpeg:https://www.wac-avd.de/wp-content/uploads/2025/03/image003.jpg
ORGANIZER;CN="Wiesbadener Automobilclub (HV)":MAILTO:info@wac-avd.de
GEO:50.0782184;8.2397608
X-APPLE-STRUCTURED-LOCATION;VALUE=URI;X-ADDRESS=Clubabend Clubabend Wiesbaden Deutschland;X-APPLE-RADIUS=500;X-TITLE=Clubabend:geo:8.2397608,50.0782184
END:VEVENT
BEGIN:VEVENT
DTSTART;TZID=Europe/Berlin:20260312T193000
DTEND;TZID=Europe/Berlin:20260312T220000
DTSTAMP:20260424T172826
CREATED:20260122T083937Z
LAST-MODIFIED:20260122T084005Z
UID:10000161-1773343800-1773352800@www.wac-avd.de
SUMMARY:Clubabend / Rustikaler Abend
DESCRIPTION:Was kann es schöneres geben als mit Gleichgesinnten bei einem spritzigen Getränk und gutem Essen über sein Hobby zu reden.  \nAn jedem zweiten Donnerstag im Monat treffen sich die Mitglieder zu Benzingesprächen rund ums Automobil. Über Termine und die wechselnden Lokalitäten wird entsprechend rechtzeitig hier informiert.  \nZu diesen Clubabenden sind auch Gäste herzlich willkommen!
URL:https://www.wac-avd.de/event/clubabend-2
LOCATION:Clubabend\, Clubabend\, Wiesbaden\, Deutschland
CATEGORIES:Clubtreffen
ATTACH;FMTTYPE=image/jpeg:https://www.wac-avd.de/wp-content/uploads/2020/11/gjp-43-von-48_1200x800_of_417186963e687793.jpg
ORGANIZER;CN="Wiesbadener Automobilclub (Clubabend/Event)":MAILTO:info@wac-avd.de
GEO:50.0782184;8.2397608
X-APPLE-STRUCTURED-LOCATION;VALUE=URI;X-ADDRESS=Clubabend Clubabend Wiesbaden Deutschland;X-APPLE-RADIUS=500;X-TITLE=Clubabend:geo:8.2397608,50.0782184
END:VEVENT
BEGIN:VEVENT
DTSTART;VALUE=DATE:20260307
DTEND;VALUE=DATE:20260308
DTSTAMP:20260424T172826
CREATED:20231220T190524Z
LAST-MODIFIED:20260102T100459Z
UID:10000135-1772841600-1772927999@www.wac-avd.de
SUMMARY:WAC Kartevent
DESCRIPTION:WAC Kartevent\nSamstag\, 07. März 2026 \nUnser diesjähriges Event zur Saisoneröffnung Anfang März führt uns nach Frankfurt auf eine Kartbahn.\nDort treffen wir uns um 14:30 Uhr zur exklusiven GP Competition\, bestehend aus Training\, Qualifying und Rennen. \nDie Teilnehmerzahl ist auf 24 limitiert! \nPreis je Teilnehmer: 50€\nPreis je Nachwuchs: 35€ \nAnmeldeschluss ist der 27. Februar 2026 \nDetails und zur Anmeldung: Kartevent
URL:https://www.wac-avd.de/event/wac-kartevent
LOCATION:Eco-Kart Frankfurt INDOOR\, August-Schanz-Straße 31a\, Frankfurt am Main\, 60433\, Deutschland
CATEGORIES:Sportliche Veranstaltungen
ATTACH;FMTTYPE=image/jpeg:https://www.wac-avd.de/wp-content/uploads/2023/12/Kart-2024-2.jpg
ORGANIZER;CN="Wiesbadener Automobilclub (Sport)":MAILTO:info@wac-avd.de
END:VEVENT
BEGIN:VEVENT
DTSTART;TZID=Europe/Berlin:20260222T110000
DTEND;TZID=Europe/Berlin:20260222T180000
DTSTAMP:20260424T172826
CREATED:20211101T122003Z
LAST-MODIFIED:20260107T182537Z
UID:10000094-1771758000-1771783200@www.wac-avd.de
SUMMARY:Winter - Ausfahrt
DESCRIPTION:Winter – Ausfahrt\nSonntag 22. Februar 2026 \nWenn Schnee liegen sollte\, wären M+S Reifen sicherlich angebracht \nMit leichten Rallye-Aufgaben geht es auf landschaftlich schönen Straßen \nrund um Wiesbaden. \nNenngeld  pro Person          € 30\,00 \nZiel Am Ziel könnt ihr euch dann noch etwas stärken\, bevor ihr die Heimreise antretet. \nNennungsschluß   Sonntag\, den 15. Februar 2026 \nIhre Online-Nennung finden Sie unter www.wac-avd.de im Bereich „Veranstaltungen“. \nZur Anmeldung Winter-Ausfahrt
URL:https://www.wac-avd.de/event/winter-rallye
CATEGORIES:Sportliche Veranstaltungen
ATTACH;FMTTYPE=image/jpeg:https://www.wac-avd.de/wp-content/uploads/2026/01/Winterrallye-2026-1.jpg
ORGANIZER;CN="Wiesbadener Automobilclub (Rallye)":MAILTO:info@wac-avd.de
END:VEVENT
BEGIN:VEVENT
DTSTART;TZID=Europe/Berlin:20260212T193000
DTEND;TZID=Europe/Berlin:20260212T220000
DTSTAMP:20260424T172826
CREATED:20260122T083714Z
LAST-MODIFIED:20260122T083913Z
UID:10000160-1770924600-1770933600@www.wac-avd.de
SUMMARY:Clubabend / Hüttenabend
DESCRIPTION:Es ist herrlich\, sich in der kalten Jahreszeit mit Gleichgesinnten in eine gemütliche Hütte zurückzuziehen und den rustikalen Charme mit einem Hauch von winterlicher Eleganz gemeinsam zu genießen. An jedem zweiten Donnerstag im Monat treffen sich die Mitglieder zu Benzingesprächen rund ums Automobil.\nÜber Termine und die wechselnden Lokalitäten wird entsprechend rechtzeitig hier informiert.\nZu diesen Clubabenden sind auch Gäste herzlich willkommen!
URL:https://www.wac-avd.de/event/clubabend
LOCATION:Clubabend\, Clubabend\, Wiesbaden\, Deutschland
CATEGORIES:Clubtreffen
ATTACH;FMTTYPE=image/jpeg:https://www.wac-avd.de/wp-content/uploads/2026/01/image001-1.jpg
ORGANIZER;CN="Wiesbadener Automobilclub (Clubabend/Event)":MAILTO:info@wac-avd.de
GEO:50.0782184;8.2397608
X-APPLE-STRUCTURED-LOCATION;VALUE=URI;X-ADDRESS=Clubabend Clubabend Wiesbaden Deutschland;X-APPLE-RADIUS=500;X-TITLE=Clubabend:geo:8.2397608,50.0782184
END:VEVENT
BEGIN:VEVENT
DTSTART;TZID=Europe/Berlin:20260108T193000
DTEND;TZID=Europe/Berlin:20260108T220000
DTSTAMP:20260424T172826
CREATED:20260106T132623Z
LAST-MODIFIED:20260106T133013Z
UID:10000159-1767900600-1767909600@www.wac-avd.de
SUMMARY:Clubabend - WIESBADEN ON ICE
DESCRIPTION:Wir möchten an unserem ersten Clubabend im neuen Jahr gerne zum Eisstockschießen \nam Kurhaus Wiesbaden\, Eisstockbahn 1\, einladen. Vorher trinken wir noch gemeinsam \neinen heißen Glühwein.
URL:https://www.wac-avd.de/event/clubabend-ice
LOCATION:Eisbahn Wiesbaden “Warmer Damm”\, Warner Damm\, Wiesbaden
CATEGORIES:Clubtreffen
ATTACH;FMTTYPE=image/jpeg:https://www.wac-avd.de/wp-content/uploads/2026/01/image001-scaled.jpg
ORGANIZER;CN="Wiesbadener Automobilclub (Clubabend/Event)":MAILTO:info@wac-avd.de
GEO:50.0881956;8.261996
X-APPLE-STRUCTURED-LOCATION;VALUE=URI;X-ADDRESS=Eisbahn Wiesbaden “Warmer Damm” Warner Damm Wiesbaden;X-APPLE-RADIUS=500;X-TITLE=Warner Damm:geo:8.261996,50.0881956
END:VEVENT
BEGIN:VEVENT
DTSTART;TZID=Europe/Berlin:20251113T193000
DTEND;TZID=Europe/Berlin:20251113T220000
DTSTAMP:20260424T172826
CREATED:20250904T075613Z
LAST-MODIFIED:20250904T075613Z
UID:10000157-1763062200-1763071200@www.wac-avd.de
SUMMARY:Clubabend - Rustikaler Abend
DESCRIPTION:Was kann es schöneres geben als mit Gleichgesinnten bei einem spritzigen Getränk und gutem Essen über sein Hobby zu reden.  \nAn jedem zweiten Donnerstag im Monat treffen sich die Mitglieder zu Benzingesprächen rund ums Automobil. Über Termine und die wechselnden Lokalitäten wird entsprechend rechtzeitig hier informiert.  \nZu diesen Clubabenden sind auch Gäste herzlich willkommen!
URL:https://www.wac-avd.de/event/clubabend-3-2-6
LOCATION:Clubabend\, Clubabend\, Wiesbaden\, Deutschland
CATEGORIES:Clubtreffen
ATTACH;FMTTYPE=image/jpeg:https://www.wac-avd.de/wp-content/uploads/2020/11/gjp-43-von-48_1200x800_of_417186963e687793.jpg
ORGANIZER;CN="Wiesbadener Automobilclub (Clubabend/Event)":MAILTO:info@wac-avd.de
GEO:50.0782184;8.2397608
X-APPLE-STRUCTURED-LOCATION;VALUE=URI;X-ADDRESS=Clubabend Clubabend Wiesbaden Deutschland;X-APPLE-RADIUS=500;X-TITLE=Clubabend:geo:8.2397608,50.0782184
END:VEVENT
BEGIN:VEVENT
DTSTART;TZID=Europe/Berlin:20251009T193000
DTEND;TZID=Europe/Berlin:20251009T220000
DTSTAMP:20260424T172826
CREATED:20250904T075518Z
LAST-MODIFIED:20250904T075518Z
UID:10000156-1760038200-1760047200@www.wac-avd.de
SUMMARY:Clubabend - Auszeit im Grünen
DESCRIPTION:Was kann es schöneres geben als mit Gleichgesinnten bei einem spritzigen Getränk und gutem Essen über sein Hobby zu reden.  \nAn jedem zweiten Donnerstag im Monat treffen sich die Mitglieder zu Benzingesprächen rund ums Automobil. Über Termine und die wechselnden Lokalitäten wird entsprechend rechtzeitig hier informiert.  \nZu diesen Clubabenden sind auch Gäste herzlich willkommen!
URL:https://www.wac-avd.de/event/clubabend-3-2-5
LOCATION:Clubabend\, Clubabend\, Wiesbaden\, Deutschland
CATEGORIES:Clubtreffen
ATTACH;FMTTYPE=image/jpeg:https://www.wac-avd.de/wp-content/uploads/2024/12/Gruen.jpg
ORGANIZER;CN="Wiesbadener Automobilclub (Clubabend/Event)":MAILTO:info@wac-avd.de
GEO:50.0782184;8.2397608
X-APPLE-STRUCTURED-LOCATION;VALUE=URI;X-ADDRESS=Clubabend Clubabend Wiesbaden Deutschland;X-APPLE-RADIUS=500;X-TITLE=Clubabend:geo:8.2397608,50.0782184
END:VEVENT
BEGIN:VEVENT
DTSTART;TZID=Europe/Berlin:20250911T193000
DTEND;TZID=Europe/Berlin:20250911T220000
DTSTAMP:20260424T172826
CREATED:20250904T075348Z
LAST-MODIFIED:20250904T075350Z
UID:10000155-1757619000-1757628000@www.wac-avd.de
SUMMARY:Clubabend - Bayerischer Abend
DESCRIPTION:Was kann es schöneres geben als mit Gleichgesinnten bei einem spritzigen Getränk und gutem Essen über sein Hobby zu reden.  \nAn jedem zweiten Donnerstag im Monat treffen sich die Mitglieder zu Benzingesprächen rund ums Automobil. Über Termine und die wechselnden Lokalitäten wird entsprechend rechtzeitig hier informiert.  \nZu diesen Clubabenden sind auch Gäste herzlich willkommen!
URL:https://www.wac-avd.de/event/clubabend-3-2-4
LOCATION:Clubabend\, Clubabend\, Wiesbaden\, Deutschland
CATEGORIES:Clubtreffen
ATTACH;FMTTYPE=image/png:https://www.wac-avd.de/wp-content/uploads/2024/12/Paul.png
ORGANIZER;CN="Wiesbadener Automobilclub (Clubabend/Event)":MAILTO:info@wac-avd.de
GEO:50.0782184;8.2397608
X-APPLE-STRUCTURED-LOCATION;VALUE=URI;X-ADDRESS=Clubabend Clubabend Wiesbaden Deutschland;X-APPLE-RADIUS=500;X-TITLE=Clubabend:geo:8.2397608,50.0782184
END:VEVENT
BEGIN:VEVENT
DTSTART;TZID=Europe/Berlin:20250710T193000
DTEND;TZID=Europe/Berlin:20250710T220000
DTSTAMP:20260424T172826
CREATED:20250425T095103Z
LAST-MODIFIED:20250702T180507Z
UID:10000153-1752175800-1752184800@www.wac-avd.de
SUMMARY:Clubabend
DESCRIPTION:Was kann es schöneres geben als mit Gleichgesinnten bei einem spritzigen Getränk und gutem Essen über sein Hobby zu reden.  \nAn jedem zweiten Donnerstag im Monat treffen sich die Mitglieder zu Benzingesprächen rund ums Automobil. Über Termine und die wechselnden Lokalitäten wird entsprechend rechtzeitig hier informiert.  \nZu diesen Clubabenden sind auch Gäste herzlich willkommen!
URL:https://www.wac-avd.de/event/clubabend-3-2-2
LOCATION:Clubabend\, Clubabend\, Wiesbaden\, Deutschland
CATEGORIES:Clubtreffen
ATTACH;FMTTYPE=image/jpeg:https://www.wac-avd.de/wp-content/uploads/2016/10/Hubertushütte-1-1.jpg
ORGANIZER;CN="Wiesbadener Automobilclub (Clubabend/Event)":MAILTO:info@wac-avd.de
GEO:50.0782184;8.2397608
X-APPLE-STRUCTURED-LOCATION;VALUE=URI;X-ADDRESS=Clubabend Clubabend Wiesbaden Deutschland;X-APPLE-RADIUS=500;X-TITLE=Clubabend:geo:8.2397608,50.0782184
END:VEVENT
END:VCALENDAR