BEGIN:VCALENDAR
VERSION:2.0
PRODID:-//Wiesbadener Automobilclub im AvD e.V. - ECPv6.15.20//NONSGML v1.0//EN
CALSCALE:GREGORIAN
METHOD:PUBLISH
X-WR-CALNAME:Wiesbadener Automobilclub im AvD e.V.
X-ORIGINAL-URL:https://www.wac-avd.de
X-WR-CALDESC:Veranstaltungen für Wiesbadener Automobilclub im AvD e.V.
REFRESH-INTERVAL;VALUE=DURATION:PT1H
X-Robots-Tag:noindex
X-PUBLISHED-TTL:PT1H
BEGIN:VTIMEZONE
TZID:Europe/Berlin
BEGIN:DAYLIGHT
TZOFFSETFROM:+0100
TZOFFSETTO:+0200
TZNAME:CEST
DTSTART:20250330T010000
END:DAYLIGHT
BEGIN:STANDARD
TZOFFSETFROM:+0200
TZOFFSETTO:+0100
TZNAME:CET
DTSTART:20251026T010000
END:STANDARD
BEGIN:DAYLIGHT
TZOFFSETFROM:+0100
TZOFFSETTO:+0200
TZNAME:CEST
DTSTART:20260329T010000
END:DAYLIGHT
BEGIN:STANDARD
TZOFFSETFROM:+0200
TZOFFSETTO:+0100
TZNAME:CET
DTSTART:20261025T010000
END:STANDARD
BEGIN:DAYLIGHT
TZOFFSETFROM:+0100
TZOFFSETTO:+0200
TZNAME:CEST
DTSTART:20270328T010000
END:DAYLIGHT
BEGIN:STANDARD
TZOFFSETFROM:+0200
TZOFFSETTO:+0100
TZNAME:CET
DTSTART:20271031T010000
END:STANDARD
END:VTIMEZONE
BEGIN:VEVENT
DTSTART;TZID=Europe/Berlin:20261008T193000
DTEND;TZID=Europe/Berlin:20261008T220000
DTSTAMP:20260425T003149
CREATED:20260131T142554Z
LAST-MODIFIED:20260323T164624Z
UID:10000168-1791487800-1791496800@www.wac-avd.de
SUMMARY:Clubabend - Rustikaler Abend
DESCRIPTION:Was kann es schöneres geben als mit Gleichgesinnten bei einem spritzigen Getränk und gutem Essen über sein Hobby zu reden.  \nAn jedem zweiten Donnerstag im Monat treffen sich die Mitglieder zu Benzingesprächen rund ums Automobil. Über Termine und die wechselnden Lokalitäten wird entsprechend rechtzeitig hier informiert.  \nZu diesen Clubabenden sind auch Gäste herzlich willkommen!
URL:https://www.wac-avd.de/event/clubabend-3-2-7
LOCATION:Clubabend\, Clubabend\, Wiesbaden\, Deutschland
CATEGORIES:Clubtreffen
ATTACH;FMTTYPE=image/jpeg:https://www.wac-avd.de/wp-content/uploads/2020/11/gjp-43-von-48_1200x800_of_417186963e687793.jpg
ORGANIZER;CN="Wiesbadener Automobilclub (Clubabend/Event)":MAILTO:info@wac-avd.de
GEO:50.0782184;8.2397608
X-APPLE-STRUCTURED-LOCATION;VALUE=URI;X-ADDRESS=Clubabend Clubabend Wiesbaden Deutschland;X-APPLE-RADIUS=500;X-TITLE=Clubabend:geo:8.2397608,50.0782184
END:VEVENT
BEGIN:VEVENT
DTSTART;TZID=Europe/Berlin:20261112T193000
DTEND;TZID=Europe/Berlin:20261112T220000
DTSTAMP:20260425T003149
CREATED:20260131T142613Z
LAST-MODIFIED:20260131T142641Z
UID:10000169-1794511800-1794520800@www.wac-avd.de
SUMMARY:Clubabend
DESCRIPTION:Was kann es schöneres geben als mit Gleichgesinnten bei einem spritzigen Getränk und gutem Essen über sein Hobby zu reden.  \nAn jedem zweiten Donnerstag im Monat treffen sich die Mitglieder zu Benzingesprächen rund ums Automobil. Über Termine und die wechselnden Lokalitäten wird entsprechend rechtzeitig hier informiert.  \nZu diesen Clubabenden sind auch Gäste herzlich willkommen!
URL:https://www.wac-avd.de/event/clubabend-9
LOCATION:Clubabend\, Clubabend\, Wiesbaden\, Deutschland
CATEGORIES:Clubtreffen
ATTACH;FMTTYPE=image/jpeg:https://www.wac-avd.de/wp-content/uploads/2020/11/gjp-43-von-48_1200x800_of_417186963e687793.jpg
ORGANIZER;CN="Wiesbadener Automobilclub (Clubabend/Event)":MAILTO:info@wac-avd.de
GEO:50.0782184;8.2397608
X-APPLE-STRUCTURED-LOCATION;VALUE=URI;X-ADDRESS=Clubabend Clubabend Wiesbaden Deutschland;X-APPLE-RADIUS=500;X-TITLE=Clubabend:geo:8.2397608,50.0782184
END:VEVENT
BEGIN:VEVENT
DTSTART;TZID=Europe/Berlin:20261113T193000
DTEND;TZID=Europe/Berlin:20261113T230000
DTSTAMP:20260425T003149
CREATED:20211101T125728Z
LAST-MODIFIED:20260107T182651Z
UID:10000101-1794598200-1794610800@www.wac-avd.de
SUMMARY:Dippehas
DESCRIPTION:Dippehas\nFreitag 13. November 2026 \nDie Traditionsveranstaltung des Wiesbadener Automobilclubs.\nEin Herrenabend der besondern Art zu dem auch Gäste herzlich willkommen sind. \nAnmeldungen bitte bis zum 06. November 2026. \nZur Anmeldung Dippehas
URL:https://www.wac-avd.de/event/dippehas-2
LOCATION:Villa im Tal\, Adamstal 4\, Wiesbaden\, 65195\, Deutschland
CATEGORIES:Gesellschaftliche Veranstaltungen
ATTACH;FMTTYPE=image/jpeg:https://www.wac-avd.de/wp-content/uploads/2017/01/Frack.jpg
ORGANIZER;CN="Wiesbadener Automobilclub (Clubabend/Event)":MAILTO:info@wac-avd.de
GEO:50.109177;8.2047
X-APPLE-STRUCTURED-LOCATION;VALUE=URI;X-ADDRESS=Villa im Tal Adamstal 4 Wiesbaden 65195 Deutschland;X-APPLE-RADIUS=500;X-TITLE=Adamstal 4:geo:8.2047,50.109177
END:VEVENT
BEGIN:VEVENT
DTSTART;VALUE=DATE:20261116
DTEND;VALUE=DATE:20261118
DTSTAMP:20260425T003149
CREATED:20211101T123729Z
LAST-MODIFIED:20260102T103009Z
UID:10000097-1794787200-1794959999@www.wac-avd.de
SUMMARY:Drift + Fun Sachsenring
DESCRIPTION:Drift + Fun Sachsenring\n16. + 17. November 2026 \nTBD \nNennungsschluß: Donnerstag 11. Oktober 2026 \nZur Anmeldung:
URL:https://www.wac-avd.de/event/drift-fun
CATEGORIES:Sportliche Veranstaltungen
ATTACH;FMTTYPE=image/png:https://www.wac-avd.de/wp-content/uploads/2020/12/Bilster-Berg.png
ORGANIZER;CN="Wiesbadener Automobilclub (Sport)":MAILTO:info@wac-avd.de
END:VEVENT
BEGIN:VEVENT
DTSTART;TZID=Europe/Berlin:20261205T190000
DTEND;TZID=Europe/Berlin:20261205T233000
DTSTAMP:20260425T003149
CREATED:20221205T192002Z
LAST-MODIFIED:20260121T102609Z
UID:10000114-1796497200-1796513400@www.wac-avd.de
SUMMARY:Gänseessen
DESCRIPTION:Gänseessen\n05. Dezember 2026 \nDer Wein für die Leute\, das Wasser für die Gänse!  \nDer Wiesbadener Automobilclub lädt Mitglieder und Freunde zu seinem traditionellen Gänseessen ein. \nAnmeldungen bitte bis zum 29. November 2026. \nZur Anmeldung Gänseessen
URL:https://www.wac-avd.de/event/gaenseessen
LOCATION:i-Punkt\, Wilhelmstraße 49\, Wiesbaden\, 65183\, Deutschland
CATEGORIES:Gesellschaftliche Veranstaltungen
ATTACH;FMTTYPE=image/jpeg:https://www.wac-avd.de/wp-content/uploads/2026/01/Gans-2026.jpg
ORGANIZER;CN="Wiesbadener Automobilclub (Clubabend/Event)":MAILTO:info@wac-avd.de
END:VEVENT
BEGIN:VEVENT
DTSTART;TZID=Europe/Berlin:20261210T183000
DTEND;TZID=Europe/Berlin:20261210T220000
DTSTAMP:20260425T003149
CREATED:20241210T163442Z
LAST-MODIFIED:20260131T143650Z
UID:10000158-1796927400-1796940000@www.wac-avd.de
SUMMARY:Clubabend - Wiesbadener Sternschnuppenmarkt
DESCRIPTION:Bei einem Glas Glühwein möchten wir das Clubjahr ausklingen lassen. \nWir treffen uns ab 18:30 Uhr auf dem Sternschnuppenmarkt. \nTreffpunkt ist Stand 84 des Weingut Keßler. \nNatürlich sind auch Gäste herzlich willkommen!
URL:https://www.wac-avd.de/event/clubabend-wiesbadener-sternschnuppenmarkt
LOCATION:Schloßplatz\, Schloßplatz 6\, Wiesbaden\, 65183\, Deutschland
CATEGORIES:Clubtreffen
ATTACH;FMTTYPE=image/jpeg:https://www.wac-avd.de/wp-content/uploads/2017/11/Strenschnuppenmarkt_1-e1509532860824.jpg
ORGANIZER;CN="Wiesbadener Automobilclub (Clubabend/Event)":MAILTO:info@wac-avd.de
GEO:50.0818934;8.2421952
X-APPLE-STRUCTURED-LOCATION;VALUE=URI;X-ADDRESS=Schloßplatz Schloßplatz 6 Wiesbaden 65183 Deutschland;X-APPLE-RADIUS=500;X-TITLE=Schloßplatz 6:geo:8.2421952,50.0818934
END:VEVENT
END:VCALENDAR